BEGIN:VCALENDAR
VERSION:2.0
PRODID:-//Tango Gran Canaria - ECPv6.15.20//NONSGML v1.0//EN
CALSCALE:GREGORIAN
METHOD:PUBLISH
X-WR-CALNAME:Tango Gran Canaria
X-ORIGINAL-URL:https://www.tangograncanaria.com
X-WR-CALDESC:Eventos para Tango Gran Canaria
REFRESH-INTERVAL;VALUE=DURATION:PT1H
X-Robots-Tag:noindex
X-PUBLISHED-TTL:PT1H
BEGIN:VTIMEZONE
TZID:UTC
BEGIN:STANDARD
TZOFFSETFROM:+0000
TZOFFSETTO:+0000
TZNAME:UTC
DTSTART:20250101T000000
END:STANDARD
END:VTIMEZONE
BEGIN:VEVENT
DTSTART;TZID=UTC:20260419T193000
DTEND;TZID=UTC:20260419T223000
DTSTAMP:20260419T200520
CREATED:20220531T102110Z
LAST-MODIFIED:20260330T173028Z
UID:315-1776627000-1776637800@www.tangograncanaria.com
SUMMARY:¡Milonga del Recuerdo!
DESCRIPTION:Contacto: +34650433335
URL:https://www.tangograncanaria.com/milonga/milonga-del-recuerdo-3/
LOCATION:c/ Padre Dámaso Serna Num. 5\, c/ Padre Dámaso Serna Num. 5\, Las Palmas de Gran Canaria\, Las Palmas\, 35011\, España
ATTACH;FMTTYPE=image/jpeg:https://www.tangograncanaria.com/wp-content/uploads/2022/04/08-todos-los-domingos-menos-el-2-Milonga-del-Recuerdo-e1654041262964.jpeg
END:VEVENT
END:VCALENDAR