BEGIN:VCALENDAR
VERSION:2.0
PRODID:-//Tango Gran Canaria - ECPv6.15.20//NONSGML v1.0//EN
CALSCALE:GREGORIAN
METHOD:PUBLISH
X-ORIGINAL-URL:https://www.tangograncanaria.com
X-WR-CALDESC:Eventos para Tango Gran Canaria
REFRESH-INTERVAL;VALUE=DURATION:PT1H
X-Robots-Tag:noindex
X-PUBLISHED-TTL:PT1H
BEGIN:VTIMEZONE
TZID:UTC
BEGIN:STANDARD
TZOFFSETFROM:+0000
TZOFFSETTO:+0000
TZNAME:UTC
DTSTART:20250101T000000
END:STANDARD
END:VTIMEZONE
BEGIN:VEVENT
DTSTART;TZID=UTC:20260423T200000
DTEND;TZID=UTC:20260423T230000
DTSTAMP:20260423T094518
CREATED:20220531T211912Z
LAST-MODIFIED:20260330T172849Z
UID:370-1776974400-1776985200@www.tangograncanaria.com
SUMMARY:Se armó la Milonga
DESCRIPTION:
URL:https://www.tangograncanaria.com/milonga/se-armo-la-milonga-6/
LOCATION:Milagros Bar\, C Tomas Alva Edison\, Las Palmas de Gran Canaria\, Spain
ORGANIZER;CN="Se arm%C3%B3 la milonga":MAILTO:searmolamilonga@gmail.com
END:VEVENT
BEGIN:VEVENT
DTSTART;TZID=UTC:20260424T193000
DTEND;TZID=UTC:20260424T223000
DTSTAMP:20260423T094518
CREATED:20220531T101243Z
LAST-MODIFIED:20260402T172012Z
UID:308-1777059000-1777069800@www.tangograncanaria.com
SUMMARY:milonga "TANGO PARA BAILAR Y SOÑAR"
DESCRIPTION:
URL:https://www.tangograncanaria.com/milonga/milonga-el-abrazo/
LOCATION:we dance\, C. San Diego de Alcalá\, 12\, Local\, 35002\, Las Palmas de Gran Canaria\, Las Palmas\, las palmas\, 35001\, España
ATTACH;FMTTYPE=image/jpeg:https://www.tangograncanaria.com/wp-content/uploads/2022/05/el-abrazo-24-abril.jpeg
END:VEVENT
BEGIN:VEVENT
DTSTART;TZID=UTC:20260425T160000
DTEND;TZID=UTC:20260425T210000
DTSTAMP:20260423T094518
CREATED:20230527T104300Z
LAST-MODIFIED:20260330T174358Z
UID:616-1777132800-1777150800@www.tangograncanaria.com
SUMMARY:GRAN MILONGA "EL ÚLTIMO CHAN CHAN"
DESCRIPTION:Si no tienes como llegar contacta con nosotros para compartir transporte \n👉 SÁBADO 25 ABRIL\nTALLER DE 16:00 A 17:00 +\nMILONGA EL ÚLTIMO CHAN CHÁN 😍🎊👣 \n⏰ DE 16:00 A 21:00hs\n1 HORA TALLER + 4 HORAS MILONGA\n🎧 DJ Adriana Herrera\n🫰Aportación: 10€\n🍻 Pueden traer lo que deseen tomar/picar para compartir\n🥛 Recuerda traer tu vaso \n📍LA CUEVA\nCalle Barahona 4\, 35015\nLas Palmas de Gran Canaria\nhttps://maps.app.goo.gl/LYzCxVT6EuGcBPT89 \n🚍 12 min. Guagua LÍNEA 7 desde Teatro Pérez Galdós\nIDA: 15:35\, 16:45\nVUELTA: 21:39 \n\nPara acceder a la Milonga y a los baños hay un pequeño camino de tierra.\n\n\nRecomendamos venir con calzado deportivo o cómodo para el acceso y traer los zapatos de baile para utilizar únicamente en la pista. \n\n🅿️ Aparcamiento limitado. Contactar para confirmar parking.\n+34653204070 \n  \n 
URL:https://www.tangograncanaria.com/milonga/el-ultimo-chan-chan/
LOCATION:La Cueva\, Calle Barahona 4\,\, Las Palmas de Gran Canaria\, Las Palmas\, 35015
ATTACH;FMTTYPE=image/jpeg:https://www.tangograncanaria.com/wp-content/uploads/2023/05/banner-palmeras-CANARY-rosa.jpg
ORGANIZER;CN="AD&DA Adriana y Dami%C3%A1n":MAILTO:tangosolislascanarias@gmail.com
END:VEVENT
BEGIN:VEVENT
DTSTART;TZID=UTC:20260426T193000
DTEND;TZID=UTC:20260426T223000
DTSTAMP:20260423T094518
CREATED:20220531T105614Z
LAST-MODIFIED:20260330T173047Z
UID:320-1777231800-1777242600@www.tangograncanaria.com
SUMMARY:¡Milonga del Recuerdo!
DESCRIPTION:Contacto: +34650433335
URL:https://www.tangograncanaria.com/milonga/milonga-del-recuerdo-4/
LOCATION:c/ Padre Dámaso Serna Num. 5\, c/ Padre Dámaso Serna Num. 5\, Las Palmas de Gran Canaria\, Las Palmas\, 35011\, España
ATTACH;FMTTYPE=image/jpeg:https://www.tangograncanaria.com/wp-content/uploads/2022/04/08-todos-los-domingos-menos-el-2-Milonga-del-Recuerdo-e1654041262964.jpeg
END:VEVENT
BEGIN:VEVENT
DTSTART;TZID=UTC:20260430T200000
DTEND;TZID=UTC:20260430T230000
DTSTAMP:20260423T094518
CREATED:20220426T203036Z
LAST-MODIFIED:20260330T172650Z
UID:161-1777579200-1777590000@www.tangograncanaria.com
SUMMARY:Se armó la milonga
DESCRIPTION:
URL:https://www.tangograncanaria.com/milonga/se-armo-la-milonga-2/
LOCATION:Milagros Bar\, C Tomas Alva Edison\, Las Palmas de Gran Canaria\, Spain
ORGANIZER;CN="Se arm%C3%B3 la milonga":MAILTO:searmolamilonga@gmail.com
END:VEVENT
BEGIN:VEVENT
DTSTART;TZID=UTC:20260506T193000
DTEND;TZID=UTC:20260506T223000
DTSTAMP:20260423T094518
CREATED:20221019T174218Z
LAST-MODIFIED:20260423T092801Z
UID:508-1778095800-1778106600@www.tangograncanaria.com
SUMMARY:Milonga itinerante del Club
DESCRIPTION:
URL:https://www.tangograncanaria.com/milonga/milonga-del-mar/
LOCATION:Hotel Concorde\, Tomas Miller 85\, Las Palmas de Gran Canaria\, 35007\, España
END:VEVENT
BEGIN:VEVENT
DTSTART;TZID=UTC:20260513T193000
DTEND;TZID=UTC:20260513T223000
DTSTAMP:20260423T094518
CREATED:20221024T210859Z
LAST-MODIFIED:20260423T093338Z
UID:525-1778700600-1778711400@www.tangograncanaria.com
SUMMARY:Milonga Itinerante del Club
DESCRIPTION:
URL:https://www.tangograncanaria.com/milonga/milonga-portena-4/
LOCATION:Hotel Concorde\, Tomas Miller 85\, Las Palmas de Gran Canaria\, 35007\, España
END:VEVENT
BEGIN:VEVENT
DTSTART;TZID=UTC:20260520T193000
DTEND;TZID=UTC:20260520T223000
DTSTAMP:20260423T094518
CREATED:20240723T162427Z
LAST-MODIFIED:20260423T093429Z
UID:1172-1779305400-1779316200@www.tangograncanaria.com
SUMMARY:Milonga itinerante del Club
DESCRIPTION:
URL:https://www.tangograncanaria.com/milonga/milonga-itinerante-del-club-2/
LOCATION:Hotel Concorde\, Tomas Miller 85\, Las Palmas de Gran Canaria\, 35007\, España
END:VEVENT
BEGIN:VEVENT
DTSTART;TZID=UTC:20260527T193000
DTEND;TZID=UTC:20260527T223000
DTSTAMP:20260423T094518
CREATED:20240627T114710Z
LAST-MODIFIED:20260423T093542Z
UID:1158-1779910200-1779921000@www.tangograncanaria.com
SUMMARY:Milonga itinerante del Club
DESCRIPTION:
URL:https://www.tangograncanaria.com/milonga/milonga-itinerante-del-club/
LOCATION:Hotel Concorde\, Tomas Miller 85\, Las Palmas de Gran Canaria\, 35007\, España
END:VEVENT
BEGIN:VEVENT
DTSTART;TZID=UTC:20261112T150000
DTEND;TZID=UTC:20261115T000000
DTSTAMP:20260423T094518
CREATED:20240131T000132Z
LAST-MODIFIED:20260326T160518Z
UID:1080-1794495600-1794700800@www.tangograncanaria.com
SUMMARY:La Ronda de los Abrazos
DESCRIPTION:LOOK AT THE WEBSITE!!!  LA RONDA DE LOS ABRAZOS\n\n\n\n\nENGLISH / ESPAÑOL (debajo)\n\n\n\nLA RONDA de los ABRAZOS \nGRAN CANARIA TANGO MARATHON \n12-13-14-15 NOVEMBER 2026\n\nJoin La Ronda!  \n\n\nWooden floor\nRole balance\nMaximum of 200 people \n\n\nA Meeting of Tango and Friends by the Sea. \nA fantastic cocktail of tango and beach to welcome the winter season! .\n\n\nThe venue is located on the Las Canteras promenade\, where you can enjoy the beach  and all its leisure\, sporting and cultural activities.\n\n\n\n TEACHERS:\nLORENA TARANTINO Y GIAMPIERO GALDI\nThese two great masters will give an INTENSIVE SEMINAR of 9hs during the weekend\, exclusively to a single group\, to deepen and discover the essence that characterizes their dance.\nBook your place now!  \n\n\n\nINTERNATIONAL DJ:\n Francesco Cieschi\n Sonja Zivanovic\n Damián Desmarás\n Adriana Herrera\n Manuel Rosales\n\n\n\n+ INFO tangosolislascanarias@gmail.com\nWEB https://www.tangograncanaria.com/en/the-ronda/\nFACE GROUP https://www.facebook.com/groups/672450711225078\nREGISTRATION FORM https://forms.gle/DEdakc2Mw3ozjHDV6\n\n\n\nUN ABRAZO TANGUERO   \,\,\nAdriana y Damián\n\n\n\n ESPAÑOL\nLA RONDA de los ABRAZOS\nGRAN CANARIA TANGO MEETING \n12-13-14-15 de NOBIEMBRE 2026\n\n¡Súmate a La Ronda!  \n\n\nPiso de madera\nRole balance\nMáximo 200 personas \n\n\nUn Encuentro de Tango y Amigos junto al Mar.\nUn Fantástico cocktail de tango y playa para recibir el invierno .\n\n\nLa sede se encuentra en 1ª línea de la Playa Las Canteras donde podrás disfrutar de la playa  y de todas sus actividades tanto de ocio como deportivas y culturales.\n\n\n\n MAESTROS:\nLORENA TARANTINO Y GIAMPIERO GALDI\n\n\n\nDJ INTERNACIONES:\n Francesco Cieschi\n Sonja Zivanovic\n Damián Desmarás\n Adriana Herrera\n Manuel Rosales\n\n\n\n+ INFO tangosolislascanarias@gmail.com\nWEB www.larondadelosabrazos.com\nFACE GROUP https://www.facebook.com/groups/672450711225078\nFORMULARIO INSCRIPCIÓN https://forms.gle/DEdakc2Mw3ozjHDV6\n\n\n\nUN ABRAZO TANGUERO   \,\nAdriana y Damián
URL:https://www.tangograncanaria.com/milonga/https-www-tangograncanaria-com-en-the-ronda/
LOCATION:Hotel Cristina by Tigotan Las Palmas\, Calle Gomera 6\, Las Palmas de Gran Canaria\, Las Palmas\, 35008\, Spain
ATTACH;FMTTYPE=image/jpeg:https://www.tangograncanaria.com/wp-content/uploads/2026/01/flyer-LA-RONDA-cara-A.jpg
ORGANIZER;CN="AD&DA Adriana y Dami%C3%A1n":MAILTO:tangosolislascanarias@gmail.com
END:VEVENT
END:VCALENDAR