BEGIN:VCALENDAR
VERSION:2.0
PRODID:-//Tango Gran Canaria - ECPv6.15.20//NONSGML v1.0//EN
CALSCALE:GREGORIAN
METHOD:PUBLISH
X-WR-CALNAME:Tango Gran Canaria
X-ORIGINAL-URL:https://www.tangograncanaria.com
X-WR-CALDESC:Eventos para Tango Gran Canaria
REFRESH-INTERVAL;VALUE=DURATION:PT1H
X-Robots-Tag:noindex
X-PUBLISHED-TTL:PT1H
BEGIN:VTIMEZONE
TZID:UTC
BEGIN:STANDARD
TZOFFSETFROM:+0000
TZOFFSETTO:+0000
TZNAME:UTC
DTSTART:20210101T000000
END:STANDARD
END:VTIMEZONE
BEGIN:VEVENT
DTSTART;TZID=UTC:20240706T200000
DTEND;TZID=UTC:20240706T230000
DTSTAMP:20260423T144052
CREATED:20240704T172515Z
LAST-MODIFIED:20240704T172515Z
UID:1163-1720296000-1720306800@www.tangograncanaria.com
SUMMARY:Tango Infinity
DESCRIPTION:SÁBADO 6 JULIO\nTaller: 4×1=4\, 4×2=8… 4×4= RITMO🥁!!! \nPara los bailarines y bailarinas de todos los GÉNEROS y NIVELES: \n¿Te gustaría que un batería y bailarín con más de 30 años de experiencia en el ritmo y más de 13 años de experiencia en el tango te guiara en el DESCUBRIMIENTO DEL RITMO para mejorar y enriquecer tu baile? \nQUÉ APRENDERÁS:\n•⁠ ⁠Qué es el tiempo ⏰ para un bailarín 🕺🏼\n•⁠ ⁠Todas las figuras rítmicas 🎵 que un bailarín puede aplicar\n•⁠ ⁠Cómo disfrutar de los estratos de la música 🎻 🥁\n•⁠ ⁠Desarrollar tu ritmo interior 𝄢 \nEsto te podrías interesar si quieres:\n(LEE MÁS EN EL CARTEL)\nHORARIO: 17-19.30 \nDespués del taller se bailará con Tango INFINITY by Milonga Rara\nHORARIO: 20-23\nINVERSIÓN:\ntaller: 20 EUROS\nmilonga: 5 EUROS\nSI PARTICIPAS AL TALLER TIENES MILONGA GRATIS \nMÁS INFO Y PREINSCRIPCIÓN:\n(solo WhatsApp) +39 349 88 77 469 \nDIRECCIÓN:\nC/ Picasso\, 6 – Balos (Vecindario)
URL:https://www.tangograncanaria.com/milonga/tango-infinity/
LOCATION:calle Picasso\, calle picasso 6 Balos\, Vecindario\, las palmas\, España
ATTACH;FMTTYPE=image/jpeg:https://www.tangograncanaria.com/wp-content/uploads/2024/07/tango-infinity.jpeg
END:VEVENT
BEGIN:VEVENT
DTSTART;TZID=UTC:20240601T190000
DTEND;TZID=UTC:20240601T220000
DTSTAMP:20260423T144052
CREATED:20240529T134817Z
LAST-MODIFIED:20240529T134817Z
UID:1149-1717268400-1717279200@www.tangograncanaria.com
SUMMARY:Milonga Archipielago Tango
DESCRIPTION:After milonga 22:00 a 02:00 \nCalle diderot 14
URL:https://www.tangograncanaria.com/milonga/milonga-archipielago-tango-2/
LOCATION:Tango Argentino Las Palmas\, Calle Leopoldo Matos 16\, \, Las Palmas de Gran Canaria\, Las Palmas
ATTACH;FMTTYPE=image/jpeg:https://www.tangograncanaria.com/wp-content/uploads/2024/05/sabado.jpeg
END:VEVENT
BEGIN:VEVENT
DTSTART;TZID=UTC:20240531T190000
DTEND;TZID=UTC:20240531T220000
DTSTAMP:20260423T144052
CREATED:20240529T134229Z
LAST-MODIFIED:20240529T134318Z
UID:1146-1717182000-1717192800@www.tangograncanaria.com
SUMMARY:Milonga Archipielago Tango
DESCRIPTION:
URL:https://www.tangograncanaria.com/milonga/milonga-archipielago-tango/
LOCATION:Tango Argentino Las Palmas\, Calle Leopoldo Matos 16\, \, Las Palmas de Gran Canaria\, Las Palmas
ATTACH;FMTTYPE=image/jpeg:https://www.tangograncanaria.com/wp-content/uploads/2024/05/viernes.jpeg
END:VEVENT
BEGIN:VEVENT
DTSTART;TZID=UTC:20240418T193000
DTEND;TZID=UTC:20240418T213000
DTSTAMP:20260423T144052
CREATED:20231222T164600Z
LAST-MODIFIED:20240416T232500Z
UID:1045-1713468600-1713475800@www.tangograncanaria.com
SUMMARY:Milonga del Mono en la Plaza de las Ranas
DESCRIPTION:MILONGA DEL MONO- 18.04.2024.\ndonde siempre. Plaza de Las Ranas de 19:00 a 21:30 y si el ambiente lo requiere la alargaremos hasta las 22:00.\n\n\nAprovecha estos dias de calor para disfrutar del tango en la calle y curarte el mono de Tango.\n\n\nTe recuerdo los sintomas = Las piernas te tambalean y la mente desconcentrada y ansiosa con muchas ganas de caminar en un abrazo compartido y al compas de unas inolvidables tandas que\nnuestra queridisima amiga Magúi está montando para este evento.\n\n\nVen y pasate un buen rato y vete con una sonrisa !\n\n\nEsta es una milonga para tod@s\, pricipiantes\, intermedios\, expertos y para curiosos.\n\n\nEntrada un euro\, estudiantes gratis.
URL:https://www.tangograncanaria.com/milonga/milonga-del-mono/
LOCATION:Plaza de Las Ranas\, Pl. Hurtado de Mendoza\, 3\, Las Palmas de Gran Canaria\, Las Palmas\, 35002\, España
ATTACH;FMTTYPE=image/jpeg:https://www.tangograncanaria.com/wp-content/uploads/2023/12/plaza-ranas-1.jpg
END:VEVENT
BEGIN:VEVENT
DTSTART;VALUE=DATE:20240304
DTEND;VALUE=DATE:20240311
DTSTAMP:20260423T144052
CREATED:20240224T132444Z
LAST-MODIFIED:20240224T132444Z
UID:1109-1709510400-1710115199@www.tangograncanaria.com
SUMMARY:Canary Islands Tango Festival
DESCRIPTION:correo contacto: tangosolislascanarias@gmail.com \n  \nOUR FESTIVAL\nGathers Tangueros from all sites of Europe in one of the best places in order to enjoy a WARM WINTER.\n7 DAYS FULL OF TANGO\nREGISTER NOW and BE PART OF THIS EXPERIENCE!!!\nwww.canaryislandstangofestival.com \nNUESTRO FESTIVAL\nReúne a Tangueros de todas partes de Europa en uno de los mejores lugares para disfrutar de un INVIERNO CÁLIDO.\n7 DÍAS A PURO TANGO\n¡¡¡INSCRÍBETE YA\, Y SE PARTE DE ESTA EXPERIENCIA!!!\nwww.canaryislandstangofestival.com
URL:https://www.tangograncanaria.com/milonga/canary-islands-tango-festival/
LOCATION:las palmas
ATTACH;FMTTYPE=image/jpeg:https://www.tangograncanaria.com/wp-content/uploads/2024/02/Canary-2024-Cara-A.jpg
ORGANIZER;CN="AD&DA Adriana y Dami%C3%A1n":MAILTO:tangosolislascanarias@gmail.com
END:VEVENT
BEGIN:VEVENT
DTSTART;TZID=UTC:20231111T210000
DTEND;TZID=UTC:20231111T210100
DTSTAMP:20260423T144052
CREATED:20231027T203245Z
LAST-MODIFIED:20231027T203245Z
UID:1022-1699736400-1699736460@www.tangograncanaria.com
SUMMARY:Milonga Archipielago
DESCRIPTION:Horario: 21:00 a 04:00 \n TDJ: Michelle Perla
URL:https://www.tangograncanaria.com/milonga/milonga-archipielago-2/
LOCATION:Club Natación Metropole\, C/ Poeta Alonso Quesada\, S/N\, 35005 Las Palmas de Gran Canaria\, Las Palmas\, Las Palmas de Gran Canaria\, Las Palmas\, las palmas\, España
ATTACH;FMTTYPE=image/jpeg:https://www.tangograncanaria.com/wp-content/uploads/2023/10/archipielago-11-noviembre.jpeg
END:VEVENT
BEGIN:VEVENT
DTSTART;TZID=UTC:20231110T210000
DTEND;TZID=UTC:20231110T210100
DTSTAMP:20260423T144052
CREATED:20231027T202327Z
LAST-MODIFIED:20231027T203351Z
UID:1017-1699650000-1699650060@www.tangograncanaria.com
SUMMARY:Milonga Archipielago
DESCRIPTION:Horario: 21:00 a 04:00 \nDj David Prieto
URL:https://www.tangograncanaria.com/milonga/milonga-archipielago/
LOCATION:Club Natación Metropole\, C/ Poeta Alonso Quesada\, S/N\, 35005 Las Palmas de Gran Canaria\, Las Palmas\, Las Palmas de Gran Canaria\, Las Palmas\, las palmas\, España
ATTACH;FMTTYPE=image/jpeg:https://www.tangograncanaria.com/wp-content/uploads/2023/10/archipielago-viernes.jpeg
END:VEVENT
BEGIN:VEVENT
DTSTART;TZID=UTC:20230914T190000
DTEND;TZID=UTC:20230914T210000
DTSTAMP:20260423T144052
CREATED:20230904T115836Z
LAST-MODIFIED:20230904T115836Z
UID:661-1694718000-1694725200@www.tangograncanaria.com
SUMMARY:milonga en el sur
DESCRIPTION:
URL:https://www.tangograncanaria.com/milonga/milonga-en-el-sur/
LOCATION:las palmas
ATTACH;FMTTYPE=image/jpeg:https://www.tangograncanaria.com/wp-content/uploads/2023/09/sur.jpeg
END:VEVENT
BEGIN:VEVENT
DTSTART;TZID=UTC:20230212T200000
DTEND;TZID=UTC:20230212T230000
DTSTAMP:20260423T144052
CREATED:20221225T170550Z
LAST-MODIFIED:20230130T145146Z
UID:561-1676232000-1676242800@www.tangograncanaria.com
SUMMARY:Milonga en La Sala
DESCRIPTION:
URL:https://www.tangograncanaria.com/milonga/milonga-en-la-sala/
LOCATION:La Sala\, C. Portugal\, 50\, 35010\, Las Palmas de Gran Canaria\, Las Palmas\, España
ATTACH;FMTTYPE=image/png:https://www.tangograncanaria.com/wp-content/uploads/2022/04/07-segundo-domingo-Milonga-LaSala-cuadrado-1.png
ORGANIZER;CN="Diego Esp%C3%B3sito":MAILTO:diegoexposito@hotmail.com
END:VEVENT
BEGIN:VEVENT
DTSTART;TZID=UTC:20221109T200000
DTEND;TZID=UTC:20221109T230000
DTSTAMP:20260423T144052
CREATED:20221024T210605Z
LAST-MODIFIED:20221024T210605Z
UID:521-1668024000-1668034800@www.tangograncanaria.com
SUMMARY:Milonga Porteña
DESCRIPTION:De 19.00 a 20\,00 Música de Tango Practica libre
URL:https://www.tangograncanaria.com/milonga/milonga-portena-2/
LOCATION:Bar Kopa\, CC El Muelle\, 35008 Las Palmas de Gran Canaria\, Las Palmas de Gran Canaria\, Las Palmas\, 35008\, España
END:VEVENT
BEGIN:VEVENT
DTSTART;TZID=UTC:20221102T200000
DTEND;TZID=UTC:20221102T230000
DTSTAMP:20260423T144052
CREATED:20221024T210505Z
LAST-MODIFIED:20221024T210505Z
UID:519-1667419200-1667430000@www.tangograncanaria.com
SUMMARY:Milonga Porteña
DESCRIPTION:De 19.00 a 20\,00 Música de Tango Practica libre
URL:https://www.tangograncanaria.com/milonga/milonga-portena/
LOCATION:Bar Kopa\, CC El Muelle\, 35008 Las Palmas de Gran Canaria\, Las Palmas de Gran Canaria\, Las Palmas\, 35008\, España
END:VEVENT
BEGIN:VEVENT
DTSTART;TZID=UTC:20220615T213000
DTEND;TZID=UTC:20220615T213000
DTSTAMP:20260423T144052
CREATED:20220608T152259Z
LAST-MODIFIED:20220608T162738Z
UID:393-1655328600-1655328600@www.tangograncanaria.com
SUMMARY:Flor de Lino
DESCRIPTION:toda la info en: \n//www.asoc-apolo.org/event-details/milonga-flor-de-lino-a-beneficio-del-proyecto-orquesta-tipica-de-tango-de-las-canarias
URL:https://www.tangograncanaria.com/milonga/flor-de-lino/
LOCATION:RESTAURANTE AFRIKA\, Av Juan Carlos I S/N - C.C. Las Ramblas Centro Local 88\, segunda planta arriba\,\, Las Palmas de Gran Canaria\,\, 35019\, España
ATTACH;FMTTYPE=image/jpeg:https://www.tangograncanaria.com/wp-content/uploads/2022/06/milonga-flor-de-lino.jpeg
END:VEVENT
END:VCALENDAR