BEGIN:VCALENDAR
VERSION:2.0
PRODID:-//Tango Gran Canaria - ECPv6.15.20//NONSGML v1.0//EN
CALSCALE:GREGORIAN
METHOD:PUBLISH
X-WR-CALNAME:Tango Gran Canaria
X-ORIGINAL-URL:https://www.tangograncanaria.com
X-WR-CALDESC:Eventos para Tango Gran Canaria
REFRESH-INTERVAL;VALUE=DURATION:PT1H
X-Robots-Tag:noindex
X-PUBLISHED-TTL:PT1H
BEGIN:VTIMEZONE
TZID:UTC
BEGIN:STANDARD
TZOFFSETFROM:+0000
TZOFFSETTO:+0000
TZNAME:UTC
DTSTART:20240101T000000
END:STANDARD
END:VTIMEZONE
BEGIN:VEVENT
DTSTART;TZID=UTC:20250927T203000
DTEND;TZID=UTC:20250927T233000
DTSTAMP:20260421T191829
CREATED:20220426T210325Z
LAST-MODIFIED:20250922T113628Z
UID:179-1759005000-1759015800@www.tangograncanaria.com
SUMMARY:Milonga en La Guarida
DESCRIPTION:MILONGA EN LA GUARIDA\nLAS PALMAS DE GRAN CANARIA\n\nSi no conoces dónde queda La Guarida del Tango\,\ncontacta con nosotros\n\n\n\n\ntangosolislascanarias@gmail.com\nWhatsApp 676812346\n\n\n\nPueden traer lo que deseen\n\n\ntomar/picar para compartir\n\n \n\n\n 
URL:https://www.tangograncanaria.com/milonga/milonga-en-la-guarida-2/
LOCATION:Espacio Privado\, Obispo Codina\, Las Palmas de Gran Canaria\, 35001
ATTACH;FMTTYPE=image/jpeg:https://www.tangograncanaria.com/wp-content/uploads/2022/04/la-guarida-27-septiembre.jpg
ORGANIZER;CN="AD&DA Adriana y Dami%C3%A1n":MAILTO:tangosolislascanarias@gmail.com
END:VEVENT
END:VCALENDAR