BEGIN:VCALENDAR
VERSION:2.0
PRODID:-//Tango Gran Canaria - ECPv6.15.20//NONSGML v1.0//EN
CALSCALE:GREGORIAN
METHOD:PUBLISH
X-ORIGINAL-URL:https://www.tangograncanaria.com
X-WR-CALDESC:Eventos para Tango Gran Canaria
REFRESH-INTERVAL;VALUE=DURATION:PT1H
X-Robots-Tag:noindex
X-PUBLISHED-TTL:PT1H
BEGIN:VTIMEZONE
TZID:UTC
BEGIN:STANDARD
TZOFFSETFROM:+0000
TZOFFSETTO:+0000
TZNAME:UTC
DTSTART:20250101T000000
END:STANDARD
END:VTIMEZONE
BEGIN:VEVENT
DTSTART;TZID=UTC:20260301T193000
DTEND;TZID=UTC:20260301T223000
DTSTAMP:20260421T091025
CREATED:20220626T120002Z
LAST-MODIFIED:20260227T200603Z
UID:431-1772393400-1772404200@www.tangograncanaria.com
SUMMARY:¡Milonga del Recuerdo!
DESCRIPTION:
URL:https://www.tangograncanaria.com/milonga/milonga-del-recuerdo-5/
LOCATION:c/ Padre Dámaso Serna Num. 5\, c/ Padre Dámaso Serna Num. 5\, Las Palmas de Gran Canaria\, Las Palmas\, 35011\, España
ATTACH;FMTTYPE=image/jpeg:https://www.tangograncanaria.com/wp-content/uploads/2022/04/08-todos-los-domingos-menos-el-2-Milonga-del-Recuerdo-e1654041262964.jpeg
END:VEVENT
BEGIN:VEVENT
DTSTART;TZID=UTC:20260313T203000
DTEND;TZID=UTC:20260313T233000
DTSTAMP:20260421T091025
CREATED:20250705T151719Z
LAST-MODIFIED:20260227T200740Z
UID:1445-1773433800-1773444600@www.tangograncanaria.com
SUMMARY:Milonga D’sastre
DESCRIPTION:
URL:https://www.tangograncanaria.com/milonga/milonga-dsastre-3/
LOCATION:c/ Padre Dámaso Serna Num. 5\, c/ Padre Dámaso Serna Num. 5\, Las Palmas de Gran Canaria\, Las Palmas\, 35011\, España
ATTACH;FMTTYPE=image/jpeg:https://www.tangograncanaria.com/wp-content/uploads/2022/04/03-segundo-y-cuarto-viernes-Molinga-Dsastre-cuadrado.jpg
END:VEVENT
END:VCALENDAR